BEGIN:VCALENDAR
VERSION:2.0
PRODID:-//Plone.org//NONSGML plone.app.event//EN
X-WR-TIMEZONE:Europe/Madrid
BEGIN:VEVENT
SUMMARY:40è Aniversari de la Penya Barça d'Arenys de Mar
DTSTART;TZID=Europe/Madrid;VALUE=DATE-TIME:20151009T213000
DTEND;TZID=Europe/Madrid;VALUE=DATE-TIME:20151009T223000
DTSTAMP;VALUE=DATE-TIME:20260423T052709Z
UID:4b5c93860f009d2e16dab8f6ea650830
CREATED;VALUE=DATE-TIME:20151009T000000Z
CATEGORIES:Festa
LOCATION:Restaurant Els Mariners
ORGANIZER:Penya Barça d'Arenys de Mar
COMMENT:Preu: 25 &euro;
DESCRIPTION:Sopar aniversari
URL:https://arenysdemar.cat/document.php?id=30239
END:VEVENT
END:VCALENDAR