BEGIN:VCALENDAR
VERSION:2.0
PRODID:-//Plone.org//NONSGML plone.app.event//EN
X-WR-TIMEZONE:Europe/Madrid
BEGIN:VEVENT
SUMMARY:Inici de totes les activitats de l'Esplai
DTSTART;TZID=Europe/Madrid;VALUE=DATE-TIME:20151001T000000
DTEND;TZID=Europe/Madrid;VALUE=DATE-TIME:20151001T010000
DTSTAMP;VALUE=DATE-TIME:20260423T054216Z
UID:4e5e93bb7bd5f6590f6351f58c314c55
CREATED;VALUE=DATE-TIME:20151001T000000Z
CATEGORIES:Cursos,Teatre,Conferència
LOCATION:Esplai/C.C.Calisay - Riera del Pare Fita, 31
ORGANIZER:L'Esplai de la Gent Gran
URL:https://arenysdemar.cat/document.php?id=30241
END:VEVENT
END:VCALENDAR