BEGIN:VCALENDAR
VERSION:2.0
PRODID:-//Plone.org//NONSGML plone.app.event//EN
X-WR-TIMEZONE:Europe/Madrid
BEGIN:VEVENT
SUMMARY:Diada del Seràfics
DTSTART;TZID=Europe/Madrid;VALUE=DATE-TIME:20151004T103000
DTEND;TZID=Europe/Madrid;VALUE=DATE-TIME:20151004T113000
DTSTAMP;VALUE=DATE-TIME:20260423T083724Z
UID:30e26a862ef1c8ee75d7b5d6997bb88a
CREATED;VALUE=DATE-TIME:20151004T000000Z
CATEGORIES:Dansa,Festa,Infantils,Música,Teatre
LOCATION:Seràfics
ORGANIZER:Seràfics
COMMENT:Durada: Tot el dia
URL:https://arenysdemar.cat/document.php?id=30244
END:VEVENT
END:VCALENDAR