BEGIN:VCALENDAR
VERSION:2.0
PRODID:-//Plone.org//NONSGML plone.app.event//EN
X-WR-TIMEZONE:Europe/Madrid
BEGIN:VEVENT
SUMMARY:Mòstra de Cinèma Occitan. Projecció de Lo truelh d'Arcin i Crosada
DTSTART;TZID=Europe/Madrid;VALUE=DATE-TIME:20151003T190000
DTEND;TZID=Europe/Madrid;VALUE=DATE-TIME:20151003T200000
DTSTAMP;VALUE=DATE-TIME:20260423T065552Z
UID:3f71dbb30aaef66d489e641c908e0c7b
CREATED;VALUE=DATE-TIME:20151003T000000Z
CATEGORIES:Cinema
LOCATION:Sala d'Actes de la Biblioteca - C. Bonaire, 2
ORGANIZER:Cercle Occità dels dos Arenys i Biblioteca-Regidoria de Cultura
DESCRIPTION:Presentació a càrrec de Miquèl Maresma i Xavier Majó
URL:https://arenysdemar.cat/document.php?id=30253
END:VEVENT
END:VCALENDAR