BEGIN:VCALENDAR
VERSION:2.0
PRODID:-//Plone.org//NONSGML plone.app.event//EN
X-WR-TIMEZONE:Europe/Madrid
BEGIN:VEVENT
SUMMARY:Learning with books. Advanced
DTSTART;TZID=Europe/Madrid;VALUE=DATE-TIME:20151030T200000
DTEND;TZID=Europe/Madrid;VALUE=DATE-TIME:20151030T210000
DTSTAMP;VALUE=DATE-TIME:20260420T104520Z
UID:b875f4ad20e18a9c5b0c9a35e4940d5c
CREATED;VALUE=DATE-TIME:20151030T000000Z
CATEGORIES:Cursos,Literatura
LOCATION:Sala d'Actes de la Biblioteca - C. Bonaire, 2
ORGANIZER:Biblioteca - Regidoria de Cultura i Sakkara Viatges
DESCRIPTION:a càrrec de Manuel Delgado
URL:https://arenysdemar.cat/document.php?id=30261
END:VEVENT
END:VCALENDAR