BEGIN:VCALENDAR
VERSION:2.0
PRODID:-//Plone.org//NONSGML plone.app.event//EN
X-WR-TIMEZONE:Europe/Madrid
BEGIN:VEVENT
SUMMARY:Learning with books. Beginners
DTSTART;TZID=Europe/Madrid;VALUE=DATE-TIME:20151016T200000
DTEND;TZID=Europe/Madrid;VALUE=DATE-TIME:20151016T210000
DTSTAMP;VALUE=DATE-TIME:20260423T053303Z
UID:8096749ee4aca980a8203639b2e4c2f0
CREATED;VALUE=DATE-TIME:20151016T000000Z
CATEGORIES:Cursos,Literatura
LOCATION:Biblioteca - Bonaire, 2
ORGANIZER:Biblioteca - Regidoria de Cultura i Sakkara Viatges
DESCRIPTION:a càrrec de Manuel Delgado
URL:https://arenysdemar.cat/document.php?id=30262
END:VEVENT
END:VCALENDAR