BEGIN:VCALENDAR
VERSION:2.0
PRODID:-//Plone.org//NONSGML plone.app.event//EN
X-WR-TIMEZONE:Europe/Madrid
BEGIN:VEVENT
SUMMARY:Calamarenys al Mercat Municipal
DTSTART;TZID=Europe/Madrid;VALUE=DATE-TIME:20151023T200000
DTEND;TZID=Europe/Madrid;VALUE=DATE-TIME:20151023T210000
DTSTAMP;VALUE=DATE-TIME:20260423T052643Z
UID:3d6ddda4c59c7aee6c33a8089226e631
CREATED;VALUE=DATE-TIME:20151023T000000Z
CATEGORIES:Mostra
LOCATION:Mercat municipal - Riera Bisbe Pol, 82
ORGANIZER:Ajuntament d'Arenys de Mar
COMMENT:Durada: Fins a les 12 de la nit
URL:https://arenysdemar.cat/document.php?id=30268
END:VEVENT
END:VCALENDAR