BEGIN:VCALENDAR
VERSION:2.0
PRODID:-//Plone.org//NONSGML plone.app.event//EN
X-WR-TIMEZONE:Europe/Madrid
BEGIN:VEVENT
SUMMARY:Sopar del Calamarenys
DTSTART;TZID=Europe/Madrid;VALUE=DATE-TIME:20151002T204500
DTEND;TZID=Europe/Madrid;VALUE=DATE-TIME:20151002T214500
DTSTAMP;VALUE=DATE-TIME:20260423T083333Z
UID:529108724ec339e452a7c3e66ddce390
CREATED;VALUE=DATE-TIME:20151002T000000Z
CATEGORIES:Festa
LOCATION:Sala Polivalent del C.C.Calisay - Riera Pare Fita, 31
ORGANIZER:Associació de Restauradors d'Arenys de Mar
COMMENT:Preu: 10&euro;. Venda de tiquets a Casa del Mar, Capote, Tas-tam, Opensportscafé, Vintage Café i Barenostrum
URL:https://arenysdemar.cat/document.php?id=30272
END:VEVENT
END:VCALENDAR