BEGIN:VCALENDAR
VERSION:2.0
PRODID:-//Plone.org//NONSGML plone.app.event//EN
X-WR-TIMEZONE:Europe/Madrid
BEGIN:VEVENT
SUMMARY:Arenys Participa! Pressupost Participatiu 2016
DTSTART;TZID=Europe/Madrid;VALUE=DATE-TIME:20151008T190000
DTEND;TZID=Europe/Madrid;VALUE=DATE-TIME:20151008T200000
DTSTAMP;VALUE=DATE-TIME:20260423T040758Z
UID:d1612394c7b13df18892e183672e257e
CREATED;VALUE=DATE-TIME:20151008T000000Z
CATEGORIES:Conferència
LOCATION:Sala Noble del C.C.Calisay - Riera Pare Fita, 31
ORGANIZER:Regidoria de Participació Ciutadana
DESCRIPTION:Audiència informativa
URL:https://arenysdemar.cat/document.php?id=30273
END:VEVENT
END:VCALENDAR