BEGIN:VCALENDAR
VERSION:2.0
PRODID:-//Plone.org//NONSGML plone.app.event//EN
X-WR-TIMEZONE:Europe/Madrid
BEGIN:VEVENT
SUMMARY:Ruta literària: Miralls tèrbols de Lluís Ferran de Pol
DTSTART;TZID=Europe/Madrid;VALUE=DATE-TIME:20151024T110000
DTEND;TZID=Europe/Madrid;VALUE=DATE-TIME:20151024T120000
DTSTAMP;VALUE=DATE-TIME:20260422T040611Z
UID:2f67268ea881f357f79bef947a75f98d
CREATED;VALUE=DATE-TIME:20151024T000000Z
CATEGORIES:Literatura
LOCATION:Biblioteca - Bonaire, 2
ORGANIZER:Biblioteca-Regidoria de cultura
COMMENT:Preu: Places limitades - Inscripcions a la Biblioteca
DESCRIPTION:a càrrec de Sinera Cultura
URL:https://arenysdemar.cat/document.php?id=30281
END:VEVENT
END:VCALENDAR