BEGIN:VCALENDAR
VERSION:2.0
PRODID:-//Plone.org//NONSGML plone.app.event//EN
X-WR-TIMEZONE:Europe/Madrid
BEGIN:VEVENT
SUMMARY:Ball del dissabte
DTSTART;TZID=Europe/Madrid;VALUE=DATE-TIME:20151003T223000
DTEND;TZID=Europe/Madrid;VALUE=DATE-TIME:20151003T233000
DTSTAMP;VALUE=DATE-TIME:20260423T083550Z
UID:f2decded502d900a936d98e269a4e22b
CREATED;VALUE=DATE-TIME:20151003T000000Z
CATEGORIES:Música
LOCATION:Ateneu Arenyenc
ORGANIZER:Ateneu Arenyenc
COMMENT:Preu: Soci 5 euros i no soci 7 euros
DESCRIPTION:amb l'actuació del Duet Maky Maky
URL:https://arenysdemar.cat/document.php?id=30284
END:VEVENT
END:VCALENDAR