BEGIN:VCALENDAR
VERSION:2.0
PRODID:-//Plone.org//NONSGML plone.app.event//EN
X-WR-TIMEZONE:Europe/Madrid
BEGIN:VEVENT
SUMMARY:Ball del dissabte
DTSTART;TZID=Europe/Madrid;VALUE=DATE-TIME:20151010T223000
DTEND;TZID=Europe/Madrid;VALUE=DATE-TIME:20151010T233000
DTSTAMP;VALUE=DATE-TIME:20260420T161247Z
UID:59aa2691f0cf7cc667d80cdc64516b34
CREATED;VALUE=DATE-TIME:20151010T000000Z
CATEGORIES:Música
LOCATION:Ateneu Arenyenc
ORGANIZER:Ateneu Arenyenc
COMMENT:Preu: Soci 5 euros i no soci 7 euros
DESCRIPTION:amb l'actuació del Duet Choffers
URL:https://arenysdemar.cat/document.php?id=30288
END:VEVENT
END:VCALENDAR