BEGIN:VCALENDAR
VERSION:2.0
PRODID:-//Plone.org//NONSGML plone.app.event//EN
X-WR-TIMEZONE:Europe/Madrid
BEGIN:VEVENT
SUMMARY:Primer cicle de ponències La infància i adolescència avui: Les pors
DTSTART;TZID=Europe/Madrid;VALUE=DATE-TIME:20160303T190000
DTEND;TZID=Europe/Madrid;VALUE=DATE-TIME:20160303T200000
DTSTAMP;VALUE=DATE-TIME:20260422T232817Z
UID:df34fa1875f49adda7da97f84f242325
CREATED;VALUE=DATE-TIME:20160303T000000Z
CATEGORIES:Conferència
LOCATION:Aula d'entitats del C.C. Calisay - Riera Pare Fita, 31
ORGANIZER:Ràdio Arenys - El punt de l'interrogant
COMMENT:Preu: 5  cada trobada. 15  les quatre trobades
Durada: També els dijous 10, 17 i 24 de març de 2016 a la sala noble del CC Calisay
DESCRIPTION:a càrrec de Francesc Coll
URL:https://arenysdemar.cat/document.php?id=30298
END:VEVENT
END:VCALENDAR