BEGIN:VCALENDAR
VERSION:2.0
PRODID:-//Plone.org//NONSGML plone.app.event//EN
X-WR-TIMEZONE:Europe/Madrid
BEGIN:VEVENT
SUMMARY:Ball de tarda
DTSTART;TZID=Europe/Madrid;VALUE=DATE-TIME:20151101T183000
DTEND;TZID=Europe/Madrid;VALUE=DATE-TIME:20151101T193000
DTSTAMP;VALUE=DATE-TIME:20260424T130713Z
UID:e447e4fab6c4ca511109bbea6c766cd9
CREATED;VALUE=DATE-TIME:20151101T000000Z
CATEGORIES:Música
LOCATION:Ateneu Arenyenc
ORGANIZER:Ateneu Arenyenc
COMMENT:Preu: Preu únic 2 euros
DESCRIPTION:amb l'actuació de D.M. Ateneu
URL:https://arenysdemar.cat/document.php?id=30314
END:VEVENT
END:VCALENDAR