BEGIN:VCALENDAR
VERSION:2.0
PRODID:-//Plone.org//NONSGML plone.app.event//EN
X-WR-TIMEZONE:Europe/Madrid
BEGIN:VEVENT
SUMMARY:Inauguració de l'exposició 40 anys fent Barça
DTSTART;TZID=Europe/Madrid;VALUE=DATE-TIME:20151106T200000
DTEND;TZID=Europe/Madrid;VALUE=DATE-TIME:20151106T210000
DTSTAMP;VALUE=DATE-TIME:20260423T100736Z
UID:b0c1717156665ecc5d188762667068a8
CREATED;VALUE=DATE-TIME:20151106T000000Z
CATEGORIES:Exposició
LOCATION:Sala Exposicions del C.C.Calisay - Riera del Pare Fita, 31
ORGANIZER:Ajuntament d'Arenys de Mar i Penya Barça d'Arenys de Mar
COMMENT:Durada: fins al 29 de novembre
DESCRIPTION:a càrrec de la Penya Barça d'Arenys de Mar
URL:https://arenysdemar.cat/document.php?id=30349
END:VEVENT
END:VCALENDAR