BEGIN:VCALENDAR
VERSION:2.0
PRODID:-//Plone.org//NONSGML plone.app.event//EN
X-WR-TIMEZONE:Europe/Madrid
BEGIN:VEVENT
SUMMARY:Ball del dissabte
DTSTART;TZID=Europe/Madrid;VALUE=DATE-TIME:20151107T223000
DTEND;TZID=Europe/Madrid;VALUE=DATE-TIME:20151107T233000
DTSTAMP;VALUE=DATE-TIME:20260420T015608Z
UID:e8812ceb546b8d8a8c189cc97da0c411
CREATED;VALUE=DATE-TIME:20151107T000000Z
CATEGORIES:Música
LOCATION:Ateneu Arenyenc
ORGANIZER:Ateneu arenyenc
COMMENT:Preu: Soci 5 euros i no soci 7 euros
DESCRIPTION:amb l'actuació del Duet Maky Maky
URL:https://arenysdemar.cat/document.php?id=30376
END:VEVENT
END:VCALENDAR