BEGIN:VCALENDAR
VERSION:2.0
PRODID:-//Plone.org//NONSGML plone.app.event//EN
X-WR-TIMEZONE:Europe/Madrid
BEGIN:VEVENT
SUMMARY:Conferència de Música: Viatge d'un acordió arreu del món
DTSTART;TZID=Europe/Madrid;VALUE=DATE-TIME:20151215T180000
DTEND;TZID=Europe/Madrid;VALUE=DATE-TIME:20151215T190000
DTSTAMP;VALUE=DATE-TIME:20260423T144534Z
UID:4edfb67ac17ea5be7647838f40d9b37a
CREATED;VALUE=DATE-TIME:20151215T000000Z
CATEGORIES:Conferència
LOCATION:Sala Josep Maria Arnau del C.C.Calisay - Riera del Pare Fita, 31
ORGANIZER:Aula d'Extensió Universitària
DESCRIPTION:a càrrec d'Arrigo Tomasi, acordionista
URL:https://arenysdemar.cat/document.php?id=30433
END:VEVENT
END:VCALENDAR