BEGIN:VCALENDAR
VERSION:2.0
PRODID:-//Plone.org//NONSGML plone.app.event//EN
X-WR-TIMEZONE:Europe/Madrid
BEGIN:VEVENT
SUMMARY:Ball de Cap d'Any
DTSTART;TZID=Europe/Madrid;VALUE=DATE-TIME:20151231T230000
DTEND;TZID=Europe/Madrid;VALUE=DATE-TIME:20160101T000000
DTSTAMP;VALUE=DATE-TIME:20260422T034633Z
UID:273eea135b796b269db581ac8ba79718
CREATED;VALUE=DATE-TIME:20151231T000000Z
CATEGORIES:Festa,Música
LOCATION:Ateneu Arenyenc
ORGANIZER:Ateneu Arenyenc
COMMENT:Preu: Soci 25 euros i no soci 30 euros
DESCRIPTION:amb l'actuació del Duet Ària
URL:https://arenysdemar.cat/document.php?id=30435
END:VEVENT
END:VCALENDAR