BEGIN:VCALENDAR
VERSION:2.0
PRODID:-//Plone.org//NONSGML plone.app.event//EN
X-WR-TIMEZONE:Europe/Madrid
BEGIN:VEVENT
SUMMARY:Ball de nit
DTSTART;TZID=Europe/Madrid;VALUE=DATE-TIME:20151226T223000
DTEND;TZID=Europe/Madrid;VALUE=DATE-TIME:20151226T233000
DTSTAMP;VALUE=DATE-TIME:20260423T125436Z
UID:6759b3c7dec05f0120b8f72c0ab69616
CREATED;VALUE=DATE-TIME:20151226T000000Z
CATEGORIES:Música
LOCATION:Ateneu Arenyenc
ORGANIZER:Ateneu Arenyenc
COMMENT:Preu: 3 euros
DESCRIPTION:amb l'actuació de D.M. Ateneu
URL:https://arenysdemar.cat/document.php?id=30436
END:VEVENT
END:VCALENDAR