BEGIN:VCALENDAR
VERSION:2.0
PRODID:-//Plone.org//NONSGML plone.app.event//EN
X-WR-TIMEZONE:Europe/Madrid
BEGIN:VEVENT
SUMMARY:Donem menjar al Tió!!
DTSTART;TZID=Europe/Madrid;VALUE=DATE-TIME:20151219T173000
DTEND;TZID=Europe/Madrid;VALUE=DATE-TIME:20151219T183000
DTSTAMP;VALUE=DATE-TIME:20260420T110518Z
UID:f5cf6d876b04a25d63e5226211cc9159
CREATED;VALUE=DATE-TIME:20151219T000000Z
LOCATION:Pati del Xifré (ALERTA! NOVA UBICACIÓ) - Auterive, s/n
ORGANIZER:OCR i Regidoria de Cultura
COMMENT:Durada: fins a 2/4 de 9 del vespre
URL:https://arenysdemar.cat/document.php?id=30448
END:VEVENT
END:VCALENDAR