BEGIN:VCALENDAR
VERSION:2.0
PRODID:-//Plone.org//NONSGML plone.app.event//EN
X-WR-TIMEZONE:Europe/Madrid
BEGIN:VEVENT
SUMMARY:Dijous sardanes
DTSTART;TZID=Europe/Madrid;VALUE=DATE-TIME:20160825T193000
DTEND;TZID=Europe/Madrid;VALUE=DATE-TIME:20160825T203000
DTSTAMP;VALUE=DATE-TIME:20260425T123952Z
UID:c70498c22c3452211d73294d3a035fbd
CREATED;VALUE=DATE-TIME:20160825T000000Z
CATEGORIES:Música
LOCATION:Plaça de l'Església - Plaça de l'Església
ORGANIZER:Regidoria de Cultura i Ateneu Arenyenc
DESCRIPTION:amb la Cobla Marinada
URL:https://arenysdemar.cat/document.php?id=30464
END:VEVENT
END:VCALENDAR