BEGIN:VCALENDAR
VERSION:2.0
PRODID:-//Plone.org//NONSGML plone.app.event//EN
X-WR-TIMEZONE:Europe/Madrid
BEGIN:VEVENT
SUMMARY:Sortida cultural
DTSTART;TZID=Europe/Madrid;VALUE=DATE-TIME:20151124T090000
DTEND;TZID=Europe/Madrid;VALUE=DATE-TIME:20151124T100000
DTSTAMP;VALUE=DATE-TIME:20260423T013527Z
UID:13c95a0bba8356ff9f2d52be2d1c96df
CREATED;VALUE=DATE-TIME:20151124T000000Z
LOCATION:Ateneu Arenyenc - Anselm Clavé, 22
ORGANIZER:Secció cultural Ateneu Arenyenc
COMMENT:Preu: Socis 28&euro; i no socis 33&euro;. Reserva d'entrades a la Secretaria de l'Ateneu fins al 17 de novembre
DESCRIPTION:Visites guiades per la Barcelona del 1714 i al Parlament de Catalunya
URL:https://arenysdemar.cat/document.php?id=30473
END:VEVENT
END:VCALENDAR