BEGIN:VCALENDAR
VERSION:2.0
PRODID:-//Plone.org//NONSGML plone.app.event//EN
X-WR-TIMEZONE:Europe/Madrid
BEGIN:VEVENT
SUMMARY:Recès d'Advent
DTSTART;TZID=Europe/Madrid;VALUE=DATE-TIME:20151205T100000
DTEND;TZID=Europe/Madrid;VALUE=DATE-TIME:20151205T110000
DTSTAMP;VALUE=DATE-TIME:20260421T011638Z
UID:fe02537cb01f6969f466c42320e2f1ce
CREATED;VALUE=DATE-TIME:20151205T000000Z
LOCATION:Casa Espiritualitat Escolàpies- C/Andreu Guri, 54
ORGANIZER:Escolàpies
COMMENT:Preu: 50 euros (tot inclós)
Durada: També diumenge 6 de desembre
DESCRIPTION:Aplanem els camins del Senyor amb la pregària
URL:https://arenysdemar.cat/document.php?id=30479
END:VEVENT
END:VCALENDAR