BEGIN:VCALENDAR
VERSION:2.0
PRODID:-//Plone.org//NONSGML plone.app.event//EN
X-WR-TIMEZONE:Europe/Madrid
BEGIN:VEVENT
SUMMARY:Tertúlia de novel·la : La veritat sobre el cas Harry Quebert, de Joël Dicker
DTSTART;TZID=Europe/Madrid;VALUE=DATE-TIME:20151214T190000
DTEND;TZID=Europe/Madrid;VALUE=DATE-TIME:20151214T200000
DTSTAMP;VALUE=DATE-TIME:20260421T061753Z
UID:d341d409517cac4bf71821fba7bc4946
CREATED;VALUE=DATE-TIME:20151214T000000Z
CATEGORIES:Literatura
LOCATION:Sala d'Actes de la Biblioteca - C. Bonaire, 2
ORGANIZER:Biblioteca - Regidoria de Cultura
DESCRIPTION:a càrrec d'Enric Agustí
URL:https://arenysdemar.cat/document.php?id=30488
END:VEVENT
END:VCALENDAR