BEGIN:VCALENDAR
VERSION:2.0
PRODID:-//Plone.org//NONSGML plone.app.event//EN
X-WR-TIMEZONE:Europe/Madrid
BEGIN:VEVENT
SUMMARY:Converses a la carta en francès: Français à la carte
DTSTART;TZID=Europe/Madrid;VALUE=DATE-TIME:20151216T190000
DTEND;TZID=Europe/Madrid;VALUE=DATE-TIME:20151216T200000
DTSTAMP;VALUE=DATE-TIME:20260423T232704Z
UID:90e9fbeb1b890760036eacd8cb9aace0
CREATED;VALUE=DATE-TIME:20151216T000000Z
CATEGORIES:Cursos
LOCATION:Sala d'Actes de la Biblioteca - C. Bonaire, 2
ORGANIZER:Biblioteca - Regidoria de Cultura
DESCRIPTION:a càrrec de Dominique Jiménez
URL:https://arenysdemar.cat/document.php?id=30490
END:VEVENT
END:VCALENDAR