BEGIN:VCALENDAR
VERSION:2.0
PRODID:-//Plone.org//NONSGML plone.app.event//EN
X-WR-TIMEZONE:Europe/Madrid
BEGIN:VEVENT
SUMMARY:Dia dels Innocents
DTSTART;TZID=Europe/Madrid;VALUE=DATE-TIME:20151228T000000
DTEND;TZID=Europe/Madrid;VALUE=DATE-TIME:20151228T010000
DTSTAMP;VALUE=DATE-TIME:20260423T224856Z
UID:ecb1b67b206a5cdb1fe651299c59ea34
CREATED;VALUE=DATE-TIME:20151228T000000Z
CATEGORIES:Festa
LOCATION:Per tot arreu
ORGANIZER:APCAM
COMMENT:Preu: Gratuït
Durada: Durant tot el dia
DESCRIPTION:Penjallufes
URL:https://arenysdemar.cat/document.php?id=30512
END:VEVENT
END:VCALENDAR