BEGIN:VCALENDAR
VERSION:2.0
PRODID:-//Plone.org//NONSGML plone.app.event//EN
X-WR-TIMEZONE:Europe/Madrid
BEGIN:VEVENT
SUMMARY:L'home dels nassos
DTSTART;TZID=Europe/Madrid;VALUE=DATE-TIME:20151231T000000
DTEND;TZID=Europe/Madrid;VALUE=DATE-TIME:20151231T010000
DTSTAMP;VALUE=DATE-TIME:20260420T190420Z
UID:e2e06b86b098aa2be0b025942158aa24
CREATED;VALUE=DATE-TIME:20151231T000000Z
CATEGORIES:Festa,Infantils
LOCATION:Arreu del poble
ORGANIZER:APCAM
DESCRIPTION:Busca'l i pessiga-li el nas!!
URL:https://arenysdemar.cat/document.php?id=30515
END:VEVENT
END:VCALENDAR