BEGIN:VCALENDAR
VERSION:2.0
PRODID:-//Plone.org//NONSGML plone.app.event//EN
X-WR-TIMEZONE:Europe/Madrid
BEGIN:VEVENT
SUMMARY:Els Pastorets d'Arenys de Mar
DTSTART;TZID=Europe/Madrid;VALUE=DATE-TIME:20151226T190000
DTEND;TZID=Europe/Madrid;VALUE=DATE-TIME:20151226T200000
DTSTAMP;VALUE=DATE-TIME:20260424T041010Z
UID:33ea86450b5fb65a34320880c68589a9
CREATED;VALUE=DATE-TIME:20151226T000000Z
CATEGORIES:Infantils,Teatre
LOCATION:Casal de Joventut Seràfica - Josep Baralt, s/n
ORGANIZER:GACX-Seràfics
COMMENT:Preu: Entrades anticipades: adults 8&euro; - nens 5&euro; www.serafics.cat/entrades. Entrades a taquilla: adults 10&euro; - nens 6&euro; - socis adults 8&euro; - socis nens 5&euro;
Durada: També el diumenge 27 de desembre, a les 19:00 h
URL:https://arenysdemar.cat/document.php?id=30524
END:VEVENT
END:VCALENDAR