BEGIN:VCALENDAR
VERSION:2.0
PRODID:-//Plone.org//NONSGML plone.app.event//EN
X-WR-TIMEZONE:Europe/Madrid
BEGIN:VEVENT
SUMMARY:Concert en benefici de la Marató de TV3
DTSTART;TZID=Europe/Madrid;VALUE=DATE-TIME:20151213T123000
DTEND;TZID=Europe/Madrid;VALUE=DATE-TIME:20151213T133000
DTSTAMP;VALUE=DATE-TIME:20260424T164250Z
UID:49a12a1a9211164a095dc5a31681c6a6
CREATED;VALUE=DATE-TIME:20151213T000000Z
CATEGORIES:Música
LOCATION:Pati del C.C.Calisay - Riera del Pare Fita, 31
ORGANIZER:Escola Municipal de Música d'Arenys de Mar
DESCRIPTION:Orquestrina Synerenca i acordions
URL:https://arenysdemar.cat/document.php?id=30532
END:VEVENT
END:VCALENDAR