BEGIN:VCALENDAR
VERSION:2.0
PRODID:-//Plone.org//NONSGML plone.app.event//EN
X-WR-TIMEZONE:Europe/Madrid
BEGIN:VEVENT
SUMMARY:Preparem ornamentació i photocall nadalenc!
DTSTART;TZID=Europe/Madrid;VALUE=DATE-TIME:20151205T173000
DTEND;TZID=Europe/Madrid;VALUE=DATE-TIME:20151205T183000
DTSTAMP;VALUE=DATE-TIME:20260424T043654Z
UID:fbc036e1bb66e5383cf2b1a119a08d03
CREATED;VALUE=DATE-TIME:20151205T000000Z
CATEGORIES:Festa
LOCATION:Espai Jove del C.C.Calisay - Riera del Pare Fita, 31
ORGANIZER:Regidoria d'Infància i Joventut
URL:https://arenysdemar.cat/document.php?id=30543
END:VEVENT
END:VCALENDAR