BEGIN:VCALENDAR
VERSION:2.0
PRODID:-//Plone.org//NONSGML plone.app.event//EN
X-WR-TIMEZONE:Europe/Madrid
BEGIN:VEVENT
SUMMARY:Inauguració de l'exposició: Aquarel·les vora el mar
DTSTART;TZID=Europe/Madrid;VALUE=DATE-TIME:20151203T180000
DTEND;TZID=Europe/Madrid;VALUE=DATE-TIME:20151203T190000
DTSTAMP;VALUE=DATE-TIME:20260421T202039Z
UID:99f291902175bbfdfab7412935b61db1
CREATED;VALUE=DATE-TIME:20151203T000000Z
CATEGORIES:Exposició
LOCATION:Sala d'Art de l'Ateneu de Cerdanyola
ORGANIZER:Associació d'Artistes Plàstics de Cerdanyola
COMMENT:Durada: Fins al 31 de desembre de 2015
DESCRIPTION:de Joan Manel Salichs
URL:https://arenysdemar.cat/document.php?id=30548
END:VEVENT
END:VCALENDAR