BEGIN:VCALENDAR
VERSION:2.0
PRODID:-//Plone.org//NONSGML plone.app.event//EN
X-WR-TIMEZONE:Europe/Madrid
BEGIN:VEVENT
SUMMARY:Conta Contes i berenar popular per la Marató de TV3
DTSTART;TZID=Europe/Madrid;VALUE=DATE-TIME:20151128T173000
DTEND;TZID=Europe/Madrid;VALUE=DATE-TIME:20151128T183000
DTSTAMP;VALUE=DATE-TIME:20260423T144704Z
UID:c0188890f9732a7bd775462fcc8439d7
CREATED;VALUE=DATE-TIME:20151128T000000Z
CATEGORIES:Festa,Infantils,Teatre
LOCATION:Sala Polivalent del C.C.Calisay - Riera Pare Fita, 31
ORGANIZER:Comissió de la Marató d'Arenys de Mar
COMMENT:Preu: 2&euro;
DESCRIPTION:Contes jugats i històries per participar
URL:https://arenysdemar.cat/document.php?id=30573
END:VEVENT
END:VCALENDAR