BEGIN:VCALENDAR
VERSION:2.0
PRODID:-//Plone.org//NONSGML plone.app.event//EN
X-WR-TIMEZONE:Europe/Madrid
BEGIN:VEVENT
SUMMARY:Torneig vòlei platja per la Marató de Tv3
DTSTART;TZID=Europe/Madrid;VALUE=DATE-TIME:20151213T090000
DTEND;TZID=Europe/Madrid;VALUE=DATE-TIME:20151213T100000
DTSTAMP;VALUE=DATE-TIME:20260424T205424Z
UID:9a4f710d14e26be3ffefea0cd1839962
CREATED;VALUE=DATE-TIME:20151213T000000Z
CATEGORIES:Esports
LOCATION:Platja de la Picòrdia
ORGANIZER:Club Vòlei Papis en col.laboració amb el Club Vòlei Platja Arenys
COMMENT:Preu: 5&euro; per persona. Inscrpcions al correu clubvoleipapis@gmail.com o bé al telf. 617735507
Durada: de 09:00 a 15:00h
DESCRIPTION:2x2 masculí, 2x2 femení i 4x4 mixte
URL:https://arenysdemar.cat/document.php?id=30589
END:VEVENT
END:VCALENDAR