BEGIN:VCALENDAR
VERSION:2.0
PRODID:-//Plone.org//NONSGML plone.app.event//EN
X-WR-TIMEZONE:Europe/Madrid
BEGIN:VEVENT
SUMMARY:Aquarel·les del Mont Calvari
DTSTART;TZID=Europe/Madrid;VALUE=DATE-TIME:20160101T000000
DTEND;TZID=Europe/Madrid;VALUE=DATE-TIME:20160101T010000
DTSTAMP;VALUE=DATE-TIME:20260421T134824Z
UID:2ee000294b4b5473e4c68e74b0c9d274
CREATED;VALUE=DATE-TIME:20160101T000000Z
CATEGORIES:Exposició
LOCATION:Restaurant Mont Calvari  // Zona Portuària, s/n Arenys de Mar
COMMENT:Durada: Fins al 30 d'abril de 2016
DESCRIPTION:a càrrec de Montse Llavina
URL:https://arenysdemar.cat/document.php?id=30590
END:VEVENT
END:VCALENDAR