BEGIN:VCALENDAR
VERSION:2.0
PRODID:-//Plone.org//NONSGML plone.app.event//EN
X-WR-TIMEZONE:Europe/Madrid
BEGIN:VEVENT
SUMMARY:Arribada del Patge Reial
DTSTART;TZID=Europe/Madrid;VALUE=DATE-TIME:20160102T180000
DTEND;TZID=Europe/Madrid;VALUE=DATE-TIME:20160102T190000
DTSTAMP;VALUE=DATE-TIME:20260420T185143Z
UID:a315d697f2d25c926e9cfecc1ce57afd
CREATED;VALUE=DATE-TIME:20160102T000000Z
CATEGORIES:Festa
LOCATION:El Seràfics
ORGANIZER:El Seràfics
COMMENT:Durada: fins les 7 de la tarda. També el dia 3 de gener.
DESCRIPTION:Si ja teniu la carta del Reis a punt porteu-la al Seràfics
URL:https://arenysdemar.cat/document.php?id=30592
END:VEVENT
END:VCALENDAR