BEGIN:VCALENDAR
VERSION:2.0
PRODID:-//Plone.org//NONSGML plone.app.event//EN
X-WR-TIMEZONE:Europe/Madrid
BEGIN:VEVENT
SUMMARY:Exposició de fotografies 2n. lliurament
DTSTART;TZID=Europe/Madrid;VALUE=DATE-TIME:20160212T000000
DTEND;TZID=Europe/Madrid;VALUE=DATE-TIME:20160212T010000
DTSTAMP;VALUE=DATE-TIME:20260420T044156Z
UID:a4132f9448ccc8217cf038db9d1c0a3e
CREATED;VALUE=DATE-TIME:20160212T000000Z
CATEGORIES:Exposició
LOCATION:El Seràfics
ORGANIZER:AFA
COMMENT:Durada: Fins l'11 de març
DESCRIPTION:12a Lliga Social de l'AFA
URL:https://arenysdemar.cat/document.php?id=30598
END:VEVENT
END:VCALENDAR