BEGIN:VCALENDAR
VERSION:2.0
PRODID:-//Plone.org//NONSGML plone.app.event//EN
X-WR-TIMEZONE:Europe/Madrid
BEGIN:VEVENT
SUMMARY:Exposició de fotografies 6è lliurament
DTSTART;TZID=Europe/Madrid;VALUE=DATE-TIME:20160610T000000
DTEND;TZID=Europe/Madrid;VALUE=DATE-TIME:20160610T010000
DTSTAMP;VALUE=DATE-TIME:20260422T010818Z
UID:c6f1874b688fd9204eba1ec9863f5639
CREATED;VALUE=DATE-TIME:20160610T000000Z
CATEGORIES:Exposició
LOCATION:El Seràfics
ORGANIZER:AFA
COMMENT:Durada: Fins al 31 de juliol
DESCRIPTION:12a Lliga Social de l'AFA
URL:https://arenysdemar.cat/document.php?id=30602
END:VEVENT
END:VCALENDAR