BEGIN:VCALENDAR
VERSION:2.0
PRODID:-//Plone.org//NONSGML plone.app.event//EN
X-WR-TIMEZONE:Europe/Madrid
BEGIN:VEVENT
SUMMARY:Fira Fora Stocks. ACTIVITAT ANUL·LADA
DTSTART;TZID=Europe/Madrid;VALUE=DATE-TIME:20160227T170000
DTEND;TZID=Europe/Madrid;VALUE=DATE-TIME:20160227T180000
DTSTAMP;VALUE=DATE-TIME:20260424T183621Z
UID:7fd0c060dd4fb1941064757470e15a9d
CREATED;VALUE=DATE-TIME:20160227T000000Z
CATEGORIES:Mostra
LOCATION:Sala Polivalent del C.C.Calisay - Riera Pare Fita, 31
ORGANIZER:Regidoria de Promoció Econòmica
URL:https://arenysdemar.cat/document.php?id=30603
END:VEVENT
END:VCALENDAR