BEGIN:VCALENDAR
VERSION:2.0
PRODID:-//Plone.org//NONSGML plone.app.event//EN
X-WR-TIMEZONE:Europe/Madrid
BEGIN:VEVENT
SUMMARY:44è Concurs de Teatre Premi vila d'Arenys de Mar: L´home, la bèstia i la virtut de Luigi Pirandello
DTSTART;TZID=Europe/Madrid;VALUE=DATE-TIME:20160131T180000
DTEND;TZID=Europe/Madrid;VALUE=DATE-TIME:20160131T190000
DTSTAMP;VALUE=DATE-TIME:20260423T224759Z
UID:c8e467f8c19a1e344c68702b41db3572
CREATED;VALUE=DATE-TIME:20160131T000000Z
CATEGORIES:Teatre
LOCATION:Casal de Joventut Seràfica - Josep Baralt, s/n
ORGANIZER:Grup Artístic Carles Xena de Seràfics
COMMENT:Preu: General: 7 Socis: 5 - ESO i Batx.: 1 
DESCRIPTION:a càrrec de l'Associació Artística Encert de Sabadell
URL:https://arenysdemar.cat/document.php?id=30605
END:VEVENT
END:VCALENDAR