BEGIN:VCALENDAR
VERSION:2.0
PRODID:-//Plone.org//NONSGML plone.app.event//EN
X-WR-TIMEZONE:Europe/Madrid
BEGIN:VEVENT
SUMMARY:Fira de Brocanters
DTSTART;TZID=Europe/Madrid;VALUE=DATE-TIME:20160911T100000
DTEND;TZID=Europe/Madrid;VALUE=DATE-TIME:20160911T110000
DTSTAMP;VALUE=DATE-TIME:20260422T171416Z
UID:7d4d923bc2d8deccc4af464268c7958e
CREATED;VALUE=DATE-TIME:20160911T000000Z
CATEGORIES:Mostra
LOCATION:Riera, davant del C.C. Calisay
ORGANIZER:Associació Col·leccionisme Nou i Vell (Crisàlide)
URL:https://arenysdemar.cat/document.php?id=30609
END:VEVENT
END:VCALENDAR