BEGIN:VCALENDAR
VERSION:2.0
PRODID:-//Plone.org//NONSGML plone.app.event//EN
X-WR-TIMEZONE:Europe/Madrid
BEGIN:VEVENT
SUMMARY:Fira d'artesania
DTSTART;TZID=Europe/Madrid;VALUE=DATE-TIME:20161204T100000
DTEND;TZID=Europe/Madrid;VALUE=DATE-TIME:20161204T110000
DTSTAMP;VALUE=DATE-TIME:20260420T232858Z
UID:5461f4927a4d8709544649fd7aee7f8f
CREATED;VALUE=DATE-TIME:20161204T000000Z
CATEGORIES:Mostra
LOCATION:Plaça de l'Ajuntament i part baixa de la Riera
ORGANIZER:Associació Col·leccionisme Nou i Vell (Crisàlide)
URL:https://arenysdemar.cat/document.php?id=30616
END:VEVENT
END:VCALENDAR