BEGIN:VCALENDAR
VERSION:2.0
PRODID:-//Plone.org//NONSGML plone.app.event//EN
X-WR-TIMEZONE:Europe/Madrid
BEGIN:VEVENT
SUMMARY:Fira d'artesania
DTSTART;TZID=Europe/Madrid;VALUE=DATE-TIME:20160403T100000
DTEND;TZID=Europe/Madrid;VALUE=DATE-TIME:20160403T110000
DTSTAMP;VALUE=DATE-TIME:20260424T041059Z
UID:f9ccc37e211222bb88f965f194d36d55
CREATED;VALUE=DATE-TIME:20160403T000000Z
CATEGORIES:Esports,Mostra
LOCATION:Plaça Ajuntament i part baixa de la Riera
ORGANIZER:Associació Col·leccionisme Nou i Vell (Crisàlide)
URL:https://arenysdemar.cat/document.php?id=30625
END:VEVENT
END:VCALENDAR