BEGIN:VCALENDAR
VERSION:2.0
PRODID:-//Plone.org//NONSGML plone.app.event//EN
X-WR-TIMEZONE:Europe/Madrid
BEGIN:VEVENT
SUMMARY:Conferència: La cruïlla de l' Unió Europea
DTSTART;TZID=Europe/Madrid;VALUE=DATE-TIME:20160114T183000
DTEND;TZID=Europe/Madrid;VALUE=DATE-TIME:20160114T193000
DTSTAMP;VALUE=DATE-TIME:20260420T143132Z
UID:032825bc5ba1c77ce4f734229eee83b4
CREATED;VALUE=DATE-TIME:20160114T000000Z
CATEGORIES:Conferència
LOCATION:Sala Noble del C.C.Calisay - Riera Pare Fita, 31
ORGANIZER:Aula d'Extensió Universitària
DESCRIPTION:a càrrec de Manuel Garcia Biel, sindicalista, sociòleg i col·laborador del diari Nueva Tribuna
URL:https://arenysdemar.cat/document.php?id=30638
END:VEVENT
END:VCALENDAR