BEGIN:VCALENDAR
VERSION:2.0
PRODID:-//Plone.org//NONSGML plone.app.event//EN
X-WR-TIMEZONE:Europe/Madrid
BEGIN:VEVENT
SUMMARY:Conferència d'Història de Catalunya: El Decret de Nova Planta i les seves conseqüències
DTSTART;TZID=Europe/Madrid;VALUE=DATE-TIME:20160119T180000
DTEND;TZID=Europe/Madrid;VALUE=DATE-TIME:20160119T190000
DTSTAMP;VALUE=DATE-TIME:20260420T205003Z
UID:df966710e521134fb79257fc930f1eb7
CREATED;VALUE=DATE-TIME:20160119T000000Z
CATEGORIES:Conferència
LOCATION:Sala Josep Maria Arnau del C.C.Calisay - Riera del Pare Fita, 31
ORGANIZER:Aula d'Extensió Universitària
DESCRIPTION:a càrrec de Joaquim Nadal de la Universitat de Girona
URL:https://arenysdemar.cat/document.php?id=30648
END:VEVENT
END:VCALENDAR