BEGIN:VCALENDAR
VERSION:2.0
PRODID:-//Plone.org//NONSGML plone.app.event//EN
X-WR-TIMEZONE:Europe/Madrid
BEGIN:VEVENT
SUMMARY:Excursió a Alcover (Tarragona)
DTSTART;TZID=Europe/Madrid;VALUE=DATE-TIME:20160127T080000
DTEND;TZID=Europe/Madrid;VALUE=DATE-TIME:20160127T090000
DTSTAMP;VALUE=DATE-TIME:20260421T050148Z
UID:b04d3107c534cf9eb2d4c7e623e5f46a
CREATED;VALUE=DATE-TIME:20160127T000000Z
CATEGORIES:Festa
LOCATION:Riera, davant del C.C. Calisay
ORGANIZER:Vocalia de Jubilats
COMMENT:Preu: Socis 43 &euro; i no socis 48 &euro;
URL:https://arenysdemar.cat/document.php?id=30650
END:VEVENT
END:VCALENDAR