BEGIN:VCALENDAR
VERSION:2.0
PRODID:-//Plone.org//NONSGML plone.app.event//EN
X-WR-TIMEZONE:Europe/Madrid
BEGIN:VEVENT
SUMMARY:Hora del conte
DTSTART;TZID=Europe/Madrid;VALUE=DATE-TIME:20160114T180000
DTEND;TZID=Europe/Madrid;VALUE=DATE-TIME:20160114T190000
DTSTAMP;VALUE=DATE-TIME:20260421T103555Z
UID:763bfb7c2996e4f962cc734305dec347
CREATED;VALUE=DATE-TIME:20160114T000000Z
CATEGORIES:Infantils
LOCATION:Sala d'Actes de la Biblioteca - C. Bonaire, 2
ORGANIZER:Biblioteca - Regidoria de Cultura
URL:https://arenysdemar.cat/document.php?id=30670
END:VEVENT
END:VCALENDAR