BEGIN:VCALENDAR
VERSION:2.0
PRODID:-//Plone.org//NONSGML plone.app.event//EN
X-WR-TIMEZONE:Europe/Madrid
BEGIN:VEVENT
SUMMARY:Converses a la carta en alemany. Gespräche nach wahl
DTSTART;TZID=Europe/Madrid;VALUE=DATE-TIME:20160114T190000
DTEND;TZID=Europe/Madrid;VALUE=DATE-TIME:20160114T200000
DTSTAMP;VALUE=DATE-TIME:20260421T115326Z
UID:4ff76cd1ece3578c6be27143f1d21adc
CREATED;VALUE=DATE-TIME:20160114T000000Z
CATEGORIES:Literatura
LOCATION:Sala d'Actes de la Biblioteca - C. Bonaire, 2
ORGANIZER:Biblioteca - Regidoria de Cultura
DESCRIPTION:a càrrec de Mireia Saurí
URL:https://arenysdemar.cat/document.php?id=30679
END:VEVENT
END:VCALENDAR