BEGIN:VCALENDAR
VERSION:2.0
PRODID:-//Plone.org//NONSGML plone.app.event//EN
X-WR-TIMEZONE:Europe/Madrid
BEGIN:VEVENT
SUMMARY:Converses a la carta en italià. Conversazione in italiano
DTSTART;TZID=Europe/Madrid;VALUE=DATE-TIME:20160209T190000
DTEND;TZID=Europe/Madrid;VALUE=DATE-TIME:20160209T200000
DTSTAMP;VALUE=DATE-TIME:20260424T023215Z
UID:d4f75053c796dc4bfd4c934c01f68be1
CREATED;VALUE=DATE-TIME:20160209T000000Z
CATEGORIES:Cursos
LOCATION:Sala d'Actes de la Biblioteca - C. Bonaire, 2
ORGANIZER:Biblioteca - Regidoria de Cultura
DESCRIPTION:a càrrec d'Anna Riera
URL:https://arenysdemar.cat/document.php?id=30729
END:VEVENT
END:VCALENDAR