BEGIN:VCALENDAR
VERSION:2.0
PRODID:-//Plone.org//NONSGML plone.app.event//EN
X-WR-TIMEZONE:Europe/Madrid
BEGIN:VEVENT
SUMMARY:Converses a la carta en francès: Français à la carte
DTSTART;TZID=Europe/Madrid;VALUE=DATE-TIME:20160210T190000
DTEND;TZID=Europe/Madrid;VALUE=DATE-TIME:20160210T200000
DTSTAMP;VALUE=DATE-TIME:20260424T165622Z
UID:8e32d88f23d4a6f804d800ee93bf854a
CREATED;VALUE=DATE-TIME:20160210T000000Z
CATEGORIES:Cursos
LOCATION:Sala d'Actes de la Biblioteca - C. Bonaire, 2
ORGANIZER:Biblioteca - Regidoria de Cultura
DESCRIPTION:a càrrec de Dominique Jiménez
URL:https://arenysdemar.cat/document.php?id=30731
END:VEVENT
END:VCALENDAR