BEGIN:VCALENDAR
VERSION:2.0
PRODID:-//Plone.org//NONSGML plone.app.event//EN
X-WR-TIMEZONE:Europe/Madrid
BEGIN:VEVENT
SUMMARY:La Traviata de Guiseppe Verdi
DTSTART;TZID=Europe/Madrid;VALUE=DATE-TIME:20160204T194500
DTEND;TZID=Europe/Madrid;VALUE=DATE-TIME:20160204T204500
DTSTAMP;VALUE=DATE-TIME:20260422T032334Z
UID:2930f37f4211eb217150b744ac36b010
CREATED;VALUE=DATE-TIME:20160204T000000Z
CATEGORIES:Música
LOCATION:Teatre Principal - C. Església, 45-47
ORGANIZER:S.C. L'Esperança i la Regidoria de Cultura
COMMENT:Preu: 15 anticipada,17 a taquilla i 13 socis
DESCRIPTION:Retransmissió en directe des de la Royal Opera House de Londres
URL:https://arenysdemar.cat/document.php?id=30736
END:VEVENT
END:VCALENDAR